BEGIN:VCALENDAR
VERSION:2.0
PRODID:-//Plone.org//NONSGML plone.app.event//EN
X-WR-TIMEZONE:Europe/Rome
BEGIN:VEVENT
SUMMARY:Adolescenti e giovani adulti
DTSTART;TZID=Europe/Rome;VALUE=DATE-TIME:20230516T163000
DTSTAMP;VALUE=DATE-TIME:20260420T093436Z
UID:74d0670d1df241ee8036c2ba53665597@127.0.0.1:8095
CATEGORIES:Gruppi di Auto Mutuo Aiuto
CONTACT:Ufficio Reti San Donato San Vitale\, ufficioretisandonatosanvitale
 @comune.bologna.it
CREATED;VALUE=DATE-TIME:20230427T110115Z
DESCRIPTION:Nell'ambito di "Essere genitori nel Quartiere San Donato - San
  Vitale"
LAST-MODIFIED;VALUE=DATE-TIME:20230825T062634Z
LOCATION:Casa di Quartiere Scipione Dal Ferro - Via Sante Vincenzi 50\, Bo
 logna
URL:https://www.ausl.bologna.it/eventi/archivio/adolescenti-e-giovani-adul
 ti
END:VEVENT
BEGIN:VTIMEZONE
TZID:Europe/Rome
X-LIC-LOCATION:Europe/Rome
BEGIN:DAYLIGHT
DTSTART;VALUE=DATE-TIME:20230326T030000
TZNAME:CEST
TZOFFSETFROM:+0100
TZOFFSETTO:+0200
END:DAYLIGHT
END:VTIMEZONE
END:VCALENDAR
