BEGIN:VCALENDAR
VERSION:2.0
PRODID:-//Plone.org//NONSGML plone.app.event//EN
X-WR-TIMEZONE:Europe/Rome
BEGIN:VEVENT
SUMMARY:Prevenire i tumori mangiando
DTSTART;VALUE=DATE-TIME:20131003T060000Z
DTEND;VALUE=DATE-TIME:20131003T170000Z
DTSTAMP;VALUE=DATE-TIME:20260421T063010Z
UID:ef223890cafebabbdec660b0d718e865@127.0.0.1:8095
ATTENDEE;CN="Sono stati richiesti i Crediti ECM per le seguenti profession
 i: assistente sanitario, biologo, chimico, dietista, infermiere, medico ch
 irurgo, tecnico di prevenzione, psicologo.";ROLE=REQ-PARTICIPANT:Sono stat
 i richiesti i Crediti ECM per le seguenti professioni: assistente sanitari
 o, biologo, chimico, dietista, infermiere, medico chirurgo, tecnico di pre
 venzione, psicologo.
ATTENDEE;CN="Per avere diritto ai crediti è obbligatorio frequentare il 1
 00 % del totale delle ore di formazione.";ROLE=REQ-PARTICIPANT:Per avere d
 iritto ai crediti è obbligatorio frequentare il 100 % del totale delle or
 e di formazione.
CATEGORIES:Convegno
CONTACT:Cristina Coppini\, tel 051 6079685 - fax 051 6079872\, c.coppini@a
 usl.bologna.it
CREATED;VALUE=DATE-TIME:20130903T091826Z
LAST-MODIFIED;VALUE=DATE-TIME:20140220T135555Z
LOCATION:SALA AUDITORIUM  Regione Emilia Romagna VIA ALDO MORO 18
URL:https://www.ausl.bologna.it/eventi/archivio/Prevenireitumorimangiando
END:VEVENT
END:VCALENDAR
