BEGIN:VCALENDAR
VERSION:2.0
PRODID:-//Plone.org//NONSGML plone.app.event//EN
X-WR-TIMEZONE:Europe/Rome
BEGIN:VEVENT
SUMMARY:Artropodi e clima. Che ruolo hanno i  cambiamenti climatici sulle 
  popolazioni di artropodi ?
DTSTART;VALUE=DATE-TIME:20190510T060000Z
DTEND;VALUE=DATE-TIME:20190510T120000Z
DTSTAMP;VALUE=DATE-TIME:20260420T044123Z
UID:70ba52c392965ba8ab8aa23cbeb11757@127.0.0.1:8095
ATTENDEE;CN="Veterinari, medici, biologi, tecnici della prevenzione, tecni
 ci sanitari di laboratorio (ECM ), agronomi, studenti";ROLE=REQ-PARTICIPAN
 T:Veterinari, medici, biologi, tecnici della prevenzione, tecnici sanitari
  di laboratorio (ECM ), agronomi, studenti
CONTACT:Olivia Melloni\, rosa.domina@ausl.bologna.it
CREATED;VALUE=DATE-TIME:20170209T105954Z
LAST-MODIFIED;VALUE=DATE-TIME:20190724T082944Z
LOCATION:Aula Messieri - Dipartimento di Scienze Mediche Veterinarie dell
 ’ Università di Bologna - Via Tolara di Sopra – Ozzano Emilia
URL:https://www.ausl.bologna.it/eventi/archivio/Artropodi
END:VEVENT
END:VCALENDAR
