BEGIN:VCALENDAR
VERSION:2.0
PRODID:-//Plone.org//NONSGML plone.app.event//EN
X-WR-TIMEZONE:Europe/Rome
BEGIN:VEVENT
SUMMARY:Artropodi vettori: biologia\, strumenti di lotta e prevenzione
DTSTART;VALUE=DATE-TIME:20190524T070000Z
DTEND;VALUE=DATE-TIME:20190524T113000Z
DTSTAMP;VALUE=DATE-TIME:20260420T044123Z
UID:c5868bfff7729e80fee295a3a0682434@127.0.0.1:8095
ATTENDEE;CN="Assistenti sanitari, Biologi, Infermieri, Medici, Tecnici del
 la prevenzione, Tecnici sanitari di laboratorio, Veterinari";ROLE=REQ-PART
 ICIPANT:Assistenti sanitari, Biologi, Infermieri, Medici, Tecnici della pr
 evenzione, Tecnici sanitari di laboratorio, Veterinari
CONTACT:rosa.domina@ausl.bologna.it
CREATED;VALUE=DATE-TIME:20170209T105954Z
LAST-MODIFIED;VALUE=DATE-TIME:20190724T083539Z
LOCATION:Casalecchio di Reno  Via Cimarosa 5/2    AULA A 
URL:https://www.ausl.bologna.it/eventi/archivio/Artr
END:VEVENT
END:VCALENDAR
