BEGIN:VCALENDAR
VERSION:2.0
PRODID:-//Plone.org//NONSGML plone.app.event//EN
X-WR-TIMEZONE:Europe/Rome
BEGIN:VEVENT
SUMMARY:37° Raduno nazionale di A.A. ITALIA
DTSTART;TZID=Europe/Rome;VALUE=DATE-TIME:20230901T100000
DTEND;TZID=Europe/Rome;VALUE=DATE-TIME:20230903T130000
DTSTAMP;VALUE=DATE-TIME:20260420T093823Z
UID:444cfece1cab40678e183dcf1b9b73fa@127.0.0.1:8095
CREATED;VALUE=DATE-TIME:20230825T060836Z
DESCRIPTION:Rimini Palacongressi\, dal 1 al 3 settembre 2023
LAST-MODIFIED;VALUE=DATE-TIME:20231116T081122Z
LOCATION:Rimini Palacongressi\, via della Fiera 23 - Rimini
URL:https://www.ausl.bologna.it/eventi/archivio/37deg-raduno-nazionale-di-
 a-a-italia
END:VEVENT
BEGIN:VTIMEZONE
TZID:Europe/Rome
X-LIC-LOCATION:Europe/Rome
BEGIN:DAYLIGHT
DTSTART;VALUE=DATE-TIME:20230326T030000
TZNAME:CEST
TZOFFSETFROM:+0100
TZOFFSETTO:+0200
END:DAYLIGHT
END:VTIMEZONE
END:VCALENDAR
