BEGIN:VCALENDAR
VERSION:2.0
PRODID:-//Plone.org//NONSGML plone.app.event//EN
X-WR-TIMEZONE:Europe/Rome
BEGIN:VEVENT
SUMMARY:2° meeting "Oltre le barriere"
DTSTART;TZID=Europe/Rome;VALUE=DATE-TIME:20240914T093000
DTEND;TZID=Europe/Rome;VALUE=DATE-TIME:20240914T163000
DTSTAMP;VALUE=DATE-TIME:20260420T063119Z
UID:37763773165d409bb9c8de7f40c13a91@127.0.0.1:8095
ATTENDEE;CN="Evento accreditato ECM per medici e operatori della sanità";
 ROLE=REQ-PARTICIPANT:Evento accreditato ECM per medici e operatori della s
 anità
CONTACT:https://www.ausl.bologna.it/news/current/2deg-meeting-oltre-le-bar
 riere
CREATED;VALUE=DATE-TIME:20240911T110220Z
DESCRIPTION:A Villa Bellombra le storie di chi ha una malattia neuromuscol
 are e realizza il sogno di una vita indipendente
LAST-MODIFIED;VALUE=DATE-TIME:20241128T093646Z
URL:https://www.ausl.bologna.it/eventi/archivio/2deg-meeting-oltre-le-barr
 iere
END:VEVENT
BEGIN:VTIMEZONE
TZID:Europe/Rome
X-LIC-LOCATION:Europe/Rome
BEGIN:DAYLIGHT
DTSTART;VALUE=DATE-TIME:20240331T030000
TZNAME:CEST
TZOFFSETFROM:+0100
TZOFFSETTO:+0200
END:DAYLIGHT
END:VTIMEZONE
END:VCALENDAR
