BEGIN:VCALENDAR
VERSION:2.0
PRODID:-//Plone.org//NONSGML plone.app.event//EN
X-WR-TIMEZONE:Europe/Rome
BEGIN:VEVENT
SUMMARY:Gestione ospedaliera e continuità assistenziale per il paziente a
 ffetto da diabete mellito
DTSTART;VALUE=DATE-TIME:20160412T060000Z
DTEND;VALUE=DATE-TIME:20160412T153000Z
DTSTAMP;VALUE=DATE-TIME:20260420T150138Z
UID:61d179cdda1b0627503de424f9874202@127.0.0.1:8095
CATEGORIES:Corso di aggiornamento
CONTACT:051809194\, monica.spisni@ausl.bologna.it
CREATED;VALUE=DATE-TIME:20160203T094454Z
DESCRIPTION:Dipartimento Medico IV Corso
LAST-MODIFIED;VALUE=DATE-TIME:20160504T075657Z
LOCATION:Ospedale di Budrio
URL:https://www.ausl.bologna.it/eventi/archivio/2016-02-03.435ppp905
END:VEVENT
END:VCALENDAR
