BEGIN:VCALENDAR
VERSION:2.0
PRODID:-//Plone.org//NONSGML plone.app.event//EN
X-WR-TIMEZONE:Europe/Rome
BEGIN:VEVENT
SUMMARY:Hai la testa a posto?
DTSTART;TZID=Europe/Rome;VALUE=DATE-TIME:20230918T143000
DTEND;TZID=Europe/Rome;VALUE=DATE-TIME:20230918T173000
DTSTAMP;VALUE=DATE-TIME:20260420T093235Z
UID:bfa4eacd6f2f45d2bd82ae0450b01e68@127.0.0.1:8095
CREATED;VALUE=DATE-TIME:20230914T061349Z
DESCRIPTION:XI edizione della Make Sense Campaign. Visite ad accesso diret
 to per promuovere la diagnosi precoce del 7° tumore più comune in Europa
 .
LAST-MODIFIED;VALUE=DATE-TIME:20231116T081126Z
LOCATION:Casa della Comunità Reno-Lavino Samoggia\, piazzale Rita Levi Mo
 ntalcini 5 -  Casalecchio di Reno
URL:https://www.ausl.bologna.it/eventi/archivio/18-setthai-la-testa-a-post
 o
END:VEVENT
BEGIN:VTIMEZONE
TZID:Europe/Rome
X-LIC-LOCATION:Europe/Rome
BEGIN:DAYLIGHT
DTSTART;VALUE=DATE-TIME:20230326T030000
TZNAME:CEST
TZOFFSETFROM:+0100
TZOFFSETTO:+0200
END:DAYLIGHT
END:VTIMEZONE
END:VCALENDAR
