BEGIN:VCALENDAR
VERSION:2.0
PRODID:-//Plone.org//NONSGML plone.app.event//EN
X-WR-TIMEZONE:Europe/Rome
BEGIN:VEVENT
SUMMARY:Open day vaccinale HPV
DTSTART;TZID=Europe/Rome;VALUE=DATE-TIME:20260417T140000
DTEND;TZID=Europe/Rome;VALUE=DATE-TIME:20260417T170000
DTSTAMP;VALUE=DATE-TIME:20260423T115324Z
UID:02b92e7d1c99472f9f8a7ffb03482f56@127.0.0.1:8095
CREATED;VALUE=DATE-TIME:20260415T112835Z
DESCRIPTION:Vaccinazioni gratuite per ragazze e ragazzi dagli 11 ai 25 ann
 i per la prevenzione contro la diffusione del papilloma virus (Hpv).
LAST-MODIFIED;VALUE=DATE-TIME:20260422T101431Z
LOCATION:Bologna\, Casa della Comunità Navile\, via Svampa 8
URL:https://www.ausl.bologna.it/eventi/archivio-eventi-2026/open-day-vacci
 nale-hpv
END:VEVENT
BEGIN:VTIMEZONE
TZID:Europe/Rome
X-LIC-LOCATION:Europe/Rome
BEGIN:DAYLIGHT
DTSTART;VALUE=DATE-TIME:20260329T030000
TZNAME:CEST
TZOFFSETFROM:+0100
TZOFFSETTO:+0200
END:DAYLIGHT
END:VTIMEZONE
END:VCALENDAR
