BEGIN:VCALENDAR
VERSION:2.0
PRODID:-//Plone.org//NONSGML plone.app.event//EN
X-WR-TIMEZONE:Europe/Rome
BEGIN:VEVENT
SUMMARY:Il ruolo dell’Ospedale di San Giovanni in Persiceto nella rete o
 spedaliera Aziendale\, il rapporto con i servizi territoriali e la medicin
 a generale
DTSTART;TZID=Europe/Rome;VALUE=DATE-TIME:20250522T203000
DTEND;TZID=Europe/Rome;VALUE=DATE-TIME:20250522T223000
DTSTAMP;VALUE=DATE-TIME:20260423T203453Z
UID:aec3c40e1d8e4f7d9a6aa4927a61ce32@127.0.0.1:8095
CONTACT:https://www.ausl.bologna.it/news/current/percorsi-di-salute-dialog
 hi-con-la-cittadinanza
CREATED;VALUE=DATE-TIME:20250513T120915Z
DESCRIPTION:Nell'ambito di "Percorsi di salute: dialoghi con la cittadinan
 za"\, ciclo di incontri aperti alla popolazione organizzato dal Distretto 
 Pianura Ovest dell'Azienda USL di Bologna
LAST-MODIFIED;VALUE=DATE-TIME:20250709T100539Z
LOCATION:Sala consiliare del Municipio di San Giovanni in Persiceto - Cors
 o Italia 74
URL:https://www.ausl.bologna.it/eventi/archivio-eventi-2025/reteospedalier
 a
END:VEVENT
BEGIN:VTIMEZONE
TZID:Europe/Rome
X-LIC-LOCATION:Europe/Rome
BEGIN:DAYLIGHT
DTSTART;VALUE=DATE-TIME:20250330T030000
TZNAME:CEST
TZOFFSETFROM:+0100
TZOFFSETTO:+0200
END:DAYLIGHT
END:VTIMEZONE
END:VCALENDAR
