BEGIN:VCALENDAR
VERSION:2.0
PRODID:-//Plone.org//NONSGML plone.app.event//EN
X-WR-TIMEZONE:Europe/Rome
BEGIN:VEVENT
SUMMARY:Le cicogne di Bentivoglio
DTSTART;TZID=Europe/Rome;VALUE=DATE-TIME:20260720T150000
DTEND;TZID=Europe/Rome;VALUE=DATE-TIME:20260720T180000
DTSTAMP;VALUE=DATE-TIME:20260423T192348Z
UID:b4c744f21cca4487a3e3a6aa76479c7c@127.0.0.1:8095
CONTACT:E-mail\, lecicogne.bentivoglio@ausl.bologna.it
CREATED;VALUE=DATE-TIME:20250624T083017Z
DESCRIPTION:Presentazione del punto nascita
LAST-MODIFIED;VALUE=DATE-TIME:20260107T133055Z
LOCATION:Bentivoglio\, Ospedale Bentivoglio\, Via Marconi 35 - Aula Gialla
URL:https://www.ausl.bologna.it/eventi/archivio-eventi-2025/le-cicogne-di-
 bentivoglio-7-2026
END:VEVENT
BEGIN:VTIMEZONE
TZID:Europe/Rome
X-LIC-LOCATION:Europe/Rome
BEGIN:DAYLIGHT
DTSTART;VALUE=DATE-TIME:20260329T030000
TZNAME:CEST
TZOFFSETFROM:+0100
TZOFFSETTO:+0200
END:DAYLIGHT
END:VTIMEZONE
END:VCALENDAR
