BEGIN:VCALENDAR
VERSION:2.0
PRODID:-//Plone.org//NONSGML plone.app.event//EN
X-WR-TIMEZONE:Europe/Rome
BEGIN:VEVENT
SUMMARY:La Casa di Comunità Hub\, quali sono i servizi previsti al suo in
 terno e le integrazioni con le Case della Comunità spoke
DTSTART;TZID=Europe/Rome;VALUE=DATE-TIME:20250519T203000
DTEND;TZID=Europe/Rome;VALUE=DATE-TIME:20250519T223000
DTSTAMP;VALUE=DATE-TIME:20260423T222948Z
UID:e54797f945a742dfac6b5120b50f5870@127.0.0.1:8095
CONTACT:https://www.ausl.bologna.it/news/current/percorsi-di-salute-dialog
 hi-con-la-cittadinanza
CREATED;VALUE=DATE-TIME:20250513T120915Z
DESCRIPTION:Nell'ambito di "Percorsi di salute: dialoghi con la cittadinan
 za"\, ciclo di incontri aperti alla popolazione organizzato dal Distretto 
 Pianura Ovest dell'Azienda USL di Bologna
LAST-MODIFIED;VALUE=DATE-TIME:20250709T100538Z
LOCATION:Sala Ilaria Alpi del Comune di Crevalcore - Via Persicetana 226
URL:https://www.ausl.bologna.it/eventi/archivio-eventi-2025/la-casa-di-com
 unita-hub-quali-sono-i-servizi-previsti-al-suo-interno-e-le-integrazioni-c
 on-le-case-della-comunita-spoke
END:VEVENT
BEGIN:VTIMEZONE
TZID:Europe/Rome
X-LIC-LOCATION:Europe/Rome
BEGIN:DAYLIGHT
DTSTART;VALUE=DATE-TIME:20250330T030000
TZNAME:CEST
TZOFFSETFROM:+0100
TZOFFSETTO:+0200
END:DAYLIGHT
END:VTIMEZONE
END:VCALENDAR
