BEGIN:VCALENDAR
VERSION:2.0
PRODID:-//Plone.org//NONSGML plone.app.event//EN
X-WR-TIMEZONE:Europe/Rome
BEGIN:VEVENT
SUMMARY:L’importanza dell’integrazione socio-sanitaria nella rete dei 
 servizi territoriali per la non autosufficienza e gli anziani
DTSTART;TZID=Europe/Rome;VALUE=DATE-TIME:20250603T203000
DTEND;TZID=Europe/Rome;VALUE=DATE-TIME:20250603T223000
DTSTAMP;VALUE=DATE-TIME:20260423T203401Z
UID:c0736dabda2b47349792220f8c4ff6df@127.0.0.1:8095
CONTACT:https://www.ausl.bologna.it/news/current/percorsi-di-salute-dialog
 hi-con-la-cittadinanza
CREATED;VALUE=DATE-TIME:20250513T120915Z
DESCRIPTION:Nell'ambito di "Percorsi di salute: dialoghi con la cittadinan
 za"\, ciclo di incontri aperti alla popolazione organizzato dal Distretto 
 Pianura Ovest dell'Azienda USL di Bologna
LAST-MODIFIED;VALUE=DATE-TIME:20250709T100540Z
LOCATION:Sala polivalente del Comune di Sant'Agata Bolognese\, Via Benedet
 to XIV n°33
URL:https://www.ausl.bologna.it/eventi/archivio-eventi-2025/integrazione
END:VEVENT
BEGIN:VTIMEZONE
TZID:Europe/Rome
X-LIC-LOCATION:Europe/Rome
BEGIN:DAYLIGHT
DTSTART;VALUE=DATE-TIME:20250330T030000
TZNAME:CEST
TZOFFSETFROM:+0100
TZOFFSETTO:+0200
END:DAYLIGHT
END:VTIMEZONE
END:VCALENDAR
