BEGIN:VCALENDAR
VERSION:2.0
PRODID:-//Plone.org//NONSGML plone.app.event//EN
X-WR-TIMEZONE:Europe/Rome
BEGIN:VEVENT
SUMMARY:Insieme verso la nascita
DTSTART;TZID=Europe/Rome;VALUE=DATE-TIME:20260522T143000
DTEND;TZID=Europe/Rome;VALUE=DATE-TIME:20260522T170000
DTSTAMP;VALUE=DATE-TIME:20260423T021659Z
UID:fda430f9c2d945bc9768462b27b65f86@127.0.0.1:8095
CREATED;VALUE=DATE-TIME:20250911T112922Z
DESCRIPTION:Presentazione del punto nascita dell'Ospedale Maggiore
LAST-MODIFIED;VALUE=DATE-TIME:20260107T133046Z
LOCATION:Bologna\, Ospedale Maggiore\, Aula Magna
URL:https://www.ausl.bologna.it/eventi/archivio-eventi-2025/insieme-verso-
 la-nascita-5-2026
END:VEVENT
BEGIN:VTIMEZONE
TZID:Europe/Rome
X-LIC-LOCATION:Europe/Rome
BEGIN:DAYLIGHT
DTSTART;VALUE=DATE-TIME:20260329T030000
TZNAME:CEST
TZOFFSETFROM:+0100
TZOFFSETTO:+0200
END:DAYLIGHT
END:VTIMEZONE
END:VCALENDAR
