BEGIN:VCALENDAR
VERSION:2.0
PRODID:-//Plone.org//NONSGML plone.app.event//EN
X-WR-TIMEZONE:Europe/Rome
BEGIN:VEVENT
SUMMARY:Insieme verso la nascita
DTSTART;TZID=Europe/Rome;VALUE=DATE-TIME:20261112T143000
DTEND;TZID=Europe/Rome;VALUE=DATE-TIME:20261112T170000
DTSTAMP;VALUE=DATE-TIME:20260423T190021Z
UID:4fbaddf200ff4efaa1fd74451b33e8a3@127.0.0.1:8095
CREATED;VALUE=DATE-TIME:20250911T112922Z
DESCRIPTION:Presentazione del punto nascita dell'Ospedale Maggiore
LAST-MODIFIED;VALUE=DATE-TIME:20260107T133046Z
LOCATION:Bologna\, Ospedale Maggiore\, Aula Magna
URL:https://www.ausl.bologna.it/eventi/archivio-eventi-2025/insieme-verso-
 la-nascita-11-2026
END:VEVENT
BEGIN:VTIMEZONE
TZID:Europe/Rome
X-LIC-LOCATION:Europe/Rome
BEGIN:STANDARD
DTSTART;VALUE=DATE-TIME:20261025T020000
TZNAME:CET
TZOFFSETFROM:+0200
TZOFFSETTO:+0100
END:STANDARD
END:VTIMEZONE
END:VCALENDAR
