BEGIN:VCALENDAR
VERSION:2.0
PRODID:-//Plone.org//NONSGML plone.app.event//EN
X-WR-TIMEZONE:Europe/Rome
BEGIN:VEVENT
SUMMARY:Infanzia\, disabilità. La rete dei servizi rivolta ai minori. Ruo
 lo della famiglia\, della scuola\, e dei servizi territoriali socio-sanita
 ri
DTSTART;TZID=Europe/Rome;VALUE=DATE-TIME:20250604T203000
DTEND;TZID=Europe/Rome;VALUE=DATE-TIME:20250604T223000
DTSTAMP;VALUE=DATE-TIME:20260423T203453Z
UID:99ef7e17c99d4b7c9ccb38d2185df29b@127.0.0.1:8095
CONTACT:https://www.ausl.bologna.it/news/current/percorsi-di-salute-dialog
 hi-con-la-cittadinanza
CREATED;VALUE=DATE-TIME:20250513T120915Z
DESCRIPTION:Nell'ambito di "Percorsi di salute: dialoghi con la cittadinan
 za"\, ciclo di incontri aperti alla popolazione organizzato dal Distretto 
 Pianura Ovest dell'Azienda USL di Bologna
LAST-MODIFIED;VALUE=DATE-TIME:20250709T100541Z
LOCATION:Sala consiliare del Comune di Calderara di Reno\, Piazza Marconi 
 8
URL:https://www.ausl.bologna.it/eventi/archivio-eventi-2025/infanzia
END:VEVENT
BEGIN:VTIMEZONE
TZID:Europe/Rome
X-LIC-LOCATION:Europe/Rome
BEGIN:DAYLIGHT
DTSTART;VALUE=DATE-TIME:20250330T030000
TZNAME:CEST
TZOFFSETFROM:+0100
TZOFFSETTO:+0200
END:DAYLIGHT
END:VTIMEZONE
END:VCALENDAR
