BEGIN:VCALENDAR
VERSION:2.0
PRODID:-//Plone.org//NONSGML plone.app.event//EN
X-WR-TIMEZONE:Europe/Rome
BEGIN:VEVENT
SUMMARY:Diventare genitori. Mai troppo piccoli per la lettura nati per leg
 gere e per la musica
DTSTART;TZID=Europe/Rome;VALUE=DATE-TIME:20260520T170000
DTEND;TZID=Europe/Rome;VALUE=DATE-TIME:20260520T190000
DTSTAMP;VALUE=DATE-TIME:20260423T021700Z
UID:fd33ab6e956b4d6ab5d78a56ab2c97ae@127.0.0.1:8095
CONTACT:Biblioteca SalaBorsa\, 051 2194460
CREATED;VALUE=DATE-TIME:20250617T145105Z
DESCRIPTION:Incontri con donne\, coppie in attesa o bambini nei primi mesi
  di vita
LAST-MODIFIED;VALUE=DATE-TIME:20260107T133053Z
LOCATION:Bologna\, Palazzo D'Accursio\, Piazza Maggiore\, Sala Tassinari
URL:https://www.ausl.bologna.it/eventi/archivio-eventi-2025/diventare-geni
 tori-nati-per-leggere-2026
END:VEVENT
BEGIN:VTIMEZONE
TZID:Europe/Rome
X-LIC-LOCATION:Europe/Rome
BEGIN:DAYLIGHT
DTSTART;VALUE=DATE-TIME:20260329T030000
TZNAME:CEST
TZOFFSETFROM:+0100
TZOFFSETTO:+0200
END:DAYLIGHT
END:VTIMEZONE
END:VCALENDAR
