BEGIN:VCALENDAR
VERSION:2.0
PRODID:-//Plone.org//NONSGML plone.app.event//EN
X-WR-TIMEZONE:Europe/Rome
BEGIN:VEVENT
SUMMARY:Diventare genitori. Il massaggio neonatale\, vaccinazioni e sicure
 zza in ambito domestico
DTSTART;TZID=Europe/Rome;VALUE=DATE-TIME:20260506T170000
DTEND;TZID=Europe/Rome;VALUE=DATE-TIME:20260506T190000
DTSTAMP;VALUE=DATE-TIME:20260423T021700Z
UID:35b60b2bd89b40be9a68058101420553@127.0.0.1:8095
CONTACT:Biblioteca SalaBorsa\, 051 2194460
CREATED;VALUE=DATE-TIME:20250617T145105Z
DESCRIPTION:Incontri con donne\, coppie in attesa o bambini nei primi mesi
  di vita
LAST-MODIFIED;VALUE=DATE-TIME:20260107T133053Z
LOCATION:Bologna\, Palazzo D'Accursio\, Piazza Maggiore\, Sala Tassinari
URL:https://www.ausl.bologna.it/eventi/archivio-eventi-2025/diventare-geni
 tori-massaggio-vaccinazioni-sicurezza-2026
END:VEVENT
BEGIN:VTIMEZONE
TZID:Europe/Rome
X-LIC-LOCATION:Europe/Rome
BEGIN:DAYLIGHT
DTSTART;VALUE=DATE-TIME:20260329T030000
TZNAME:CEST
TZOFFSETFROM:+0100
TZOFFSETTO:+0200
END:DAYLIGHT
END:VTIMEZONE
END:VCALENDAR
