BEGIN:VCALENDAR
VERSION:2.0
PRODID:-//Plone.org//NONSGML plone.app.event//EN
X-WR-TIMEZONE:Europe/Rome
BEGIN:VEVENT
SUMMARY:Diventare genitori. Attaccamento e prima relazione
DTSTART;TZID=Europe/Rome;VALUE=DATE-TIME:20260415T170000
DTEND;TZID=Europe/Rome;VALUE=DATE-TIME:20260415T190000
DTSTAMP;VALUE=DATE-TIME:20260423T102034Z
UID:ec6e2a7e3e54468b945e06b01b95a5b0@127.0.0.1:8095
CONTACT:Biblioteca SalaBorsa\, 051 2194460
CREATED;VALUE=DATE-TIME:20250617T145105Z
DESCRIPTION:Incontri con donne\, coppie in attesa o bambini nei primi mesi
  di vita
LAST-MODIFIED;VALUE=DATE-TIME:20260107T133053Z
LOCATION:Bologna\, Palazzo D'Accursio\, Piazza Maggiore\, Sala Tassinari
URL:https://www.ausl.bologna.it/eventi/archivio-eventi-2025/diventare-geni
 tori-attaccamento-2026
END:VEVENT
BEGIN:VTIMEZONE
TZID:Europe/Rome
X-LIC-LOCATION:Europe/Rome
BEGIN:DAYLIGHT
DTSTART;VALUE=DATE-TIME:20260329T030000
TZNAME:CEST
TZOFFSETFROM:+0100
TZOFFSETTO:+0200
END:DAYLIGHT
END:VTIMEZONE
END:VCALENDAR
