BEGIN:VCALENDAR
VERSION:2.0
PRODID:-//Plone.org//NONSGML plone.app.event//EN
X-WR-TIMEZONE:Europe/Rome
BEGIN:VEVENT
SUMMARY:Allattiamo insieme! a San Giovanni in Persiceto
DTSTART;TZID=Europe/Rome;VALUE=DATE-TIME:20251001T100000
DTEND;TZID=Europe/Rome;VALUE=DATE-TIME:20251001T110000
DTSTAMP;VALUE=DATE-TIME:20260422T152632Z
UID:5243a28d5f43436bb2e5ed01909cc721@127.0.0.1:8095
CATEGORIES:Allattamento
CREATED;VALUE=DATE-TIME:20250929T093317Z
DESCRIPTION:13° flash mob regionale al Centro per le Famiglie Casa Isora
LAST-MODIFIED;VALUE=DATE-TIME:20260107T133039Z
LOCATION:San Giovanni in Persiceto\, via Matteotti\, 2
URL:https://www.ausl.bologna.it/eventi/archivio-eventi-2025/copy3_of_allat
 tiamo-insieme-a-san-lazzaro-di-savena
END:VEVENT
BEGIN:VTIMEZONE
TZID:Europe/Rome
X-LIC-LOCATION:Europe/Rome
BEGIN:DAYLIGHT
DTSTART;VALUE=DATE-TIME:20250330T030000
TZNAME:CEST
TZOFFSETFROM:+0100
TZOFFSETTO:+0200
END:DAYLIGHT
END:VTIMEZONE
END:VCALENDAR
