BEGIN:VCALENDAR
VERSION:2.0
PRODID:-//Plone.org//NONSGML plone.app.event//EN
X-WR-TIMEZONE:Europe/Rome
BEGIN:VEVENT
SUMMARY:Allattiamo insieme! a Zola Predosa
DTSTART;TZID=Europe/Rome;VALUE=DATE-TIME:20251004T100000
DTEND;TZID=Europe/Rome;VALUE=DATE-TIME:20251004T110000
DTSTAMP;VALUE=DATE-TIME:20260422T152634Z
UID:83cab41169584c8aa03dd9f06ab36a27@127.0.0.1:8095
CATEGORIES:Allattamento
CREATED;VALUE=DATE-TIME:20250929T093317Z
DESCRIPTION:13° flash mob regionale al Centro per le famiglie
LAST-MODIFIED;VALUE=DATE-TIME:20260107T133039Z
LOCATION:Zola Predosa\, Centro per le famiglie
URL:https://www.ausl.bologna.it/eventi/archivio-eventi-2025/copy2_of_allat
 tiamo-insieme-a-san-lazzaro-di-savena
END:VEVENT
BEGIN:VTIMEZONE
TZID:Europe/Rome
X-LIC-LOCATION:Europe/Rome
BEGIN:DAYLIGHT
DTSTART;VALUE=DATE-TIME:20250330T030000
TZNAME:CEST
TZOFFSETFROM:+0100
TZOFFSETTO:+0200
END:DAYLIGHT
END:VTIMEZONE
END:VCALENDAR
