BEGIN:VCALENDAR
VERSION:2.0
PRODID:-//Plone.org//NONSGML plone.app.event//EN
X-WR-TIMEZONE:Europe/Rome
BEGIN:VEVENT
SUMMARY:Allattiamo insieme! a San Lazzaro di Savena
DTSTART;TZID=Europe/Rome;VALUE=DATE-TIME:20251004T093000
DTEND;TZID=Europe/Rome;VALUE=DATE-TIME:20251004T103000
DTSTAMP;VALUE=DATE-TIME:20260422T152459Z
UID:ace2b356c1654bcd9c9dbf4ddb5dfd37@127.0.0.1:8095
CATEGORIES:Allattamento
CREATED;VALUE=DATE-TIME:20250929T093317Z
DESCRIPTION:13° flash mob regionale al Parco 2 Agosto
LAST-MODIFIED;VALUE=DATE-TIME:20260107T133039Z
LOCATION:San Lazzaro di Savena\, Parco 2 Agosto
URL:https://www.ausl.bologna.it/eventi/archivio-eventi-2025/allattiamo-ins
 ieme-a-san-lazzaro-di-savena
END:VEVENT
BEGIN:VTIMEZONE
TZID:Europe/Rome
X-LIC-LOCATION:Europe/Rome
BEGIN:DAYLIGHT
DTSTART;VALUE=DATE-TIME:20250330T030000
TZNAME:CEST
TZOFFSETFROM:+0100
TZOFFSETTO:+0200
END:DAYLIGHT
END:VTIMEZONE
END:VCALENDAR
