BEGIN:VCALENDAR
VERSION:2.0
PRODID:-//Plone.org//NONSGML plone.app.event//EN
X-WR-TIMEZONE:Europe/Rome
BEGIN:VEVENT
SUMMARY:Territori Solidali. I Gruppi di Auto Mutuo Aiuto della Pianura Ove
 st
DTSTART;VALUE=DATE:20260509
DTEND;VALUE=DATE:20260510
DTSTAMP;VALUE=DATE-TIME:20260426T034827Z
UID:e4e3c6ade6c9483a9a255570fe5ac06b@127.0.0.1:8095
CATEGORIES:Gruppi di Auto Mutuo Aiuto
CONTACT:https://www.ausl.bologna.it/news/current/caregiver-day-2026-a-magg
 io-incontri-e-iniziative-nel-territorio-dell2019azienda-usl-di-bologna
CREATED;VALUE=DATE-TIME:20260422T104744Z
DESCRIPTION:Nell'ambito delle iniziative del Caregiver Day 2026. Incontro 
 pubblico a Sala Bolognese
LAST-MODIFIED;VALUE=DATE-TIME:20260424T063519Z
LOCATION:Villa Terracini - Via Gramsci\, 315 Osteria Nuova\, Sala Bolognes
 e
URL:https://www.ausl.bologna.it/cit/cp/gama/incontri-eventi/2026/territori
 -solidali-i-gruppi-di-auto-mutuo-aiuto-della-pianura-ovest
END:VEVENT
END:VCALENDAR
