BEGIN:VCALENDAR
VERSION:2.0
PRODID:-//Plone.org//NONSGML plone.app.event//EN
X-WR-TIMEZONE:Europe/Rome
BEGIN:VEVENT
SUMMARY:SALVA.GENTE
DTSTART;TZID=Europe/Rome;VALUE=DATE-TIME:20260612T170000
DTEND;TZID=Europe/Rome;VALUE=DATE-TIME:20260612T190000
DTSTAMP;VALUE=DATE-TIME:20260422T193914Z
UID:f3165cf4f11b43588621c76357d34a8c@127.0.0.1:8095
CATEGORIES:Gruppi di Auto Mutuo Aiuto
CONTACT:Anna || Debora\, Anna 335 5249067 || Debora 338 9927904 (solo SMS)
 \, https://www.ausl.bologna.it/cit/cp/gama/archivio-notizie/archivio-notiz
 ie-2026/salva-gente-a-san-lazzaro-un-gruppo-di-auto-mutuo-aiuto-per-caregi
 ver-di-persone-nello-spettro-autistico
CREATED;VALUE=DATE-TIME:20251217T112410Z
DESCRIPTION:Gruppo di Auto Mutuo Aiuto (A.M.A.) rivolto ai caregiver famil
 iari di persone nello spettro autistico ad alto funzionamento (ex sindrome
  di Asperger)
LAST-MODIFIED;VALUE=DATE-TIME:20251217T113329Z
LOCATION:Via Martiri delle Foibe 17\, San Lazzaro di Savena
URL:https://www.ausl.bologna.it/cit/cp/gama/incontri-eventi/2026/salva-gen
 te126
END:VEVENT
BEGIN:VTIMEZONE
TZID:Europe/Rome
X-LIC-LOCATION:Europe/Rome
BEGIN:DAYLIGHT
DTSTART;VALUE=DATE-TIME:20260329T030000
TZNAME:CEST
TZOFFSETFROM:+0100
TZOFFSETTO:+0200
END:DAYLIGHT
END:VTIMEZONE
END:VCALENDAR
