BEGIN:VCALENDAR
VERSION:2.0
PRODID:-//Plone.org//NONSGML plone.app.event//EN
X-WR-TIMEZONE:Europe/Rome
BEGIN:VEVENT
SUMMARY:SALVA.GENTE
DTSTART;TZID=Europe/Rome;VALUE=DATE-TIME:20261211T170000
DTEND;TZID=Europe/Rome;VALUE=DATE-TIME:20261211T190000
DTSTAMP;VALUE=DATE-TIME:20260422T193930Z
UID:9442ff5767a0480f81b552791a91708f@127.0.0.1:8095
CATEGORIES:Gruppi di Auto Mutuo Aiuto
CONTACT:Anna || Debora\, Anna 335 5249067 || Debora 338 9927904 (solo SMS)
 \, https://www.ausl.bologna.it/cit/cp/gama/archivio-notizie/archivio-notiz
 ie-2026/salva-gente-a-san-lazzaro-un-gruppo-di-auto-mutuo-aiuto-per-caregi
 ver-di-persone-nello-spettro-autistico
CREATED;VALUE=DATE-TIME:20251217T112410Z
DESCRIPTION:Gruppo di Auto Mutuo Aiuto (A.M.A.) rivolto ai caregiver famil
 iari di persone nello spettro autistico ad alto funzionamento (ex sindrome
  di Asperger)
LAST-MODIFIED;VALUE=DATE-TIME:20251217T113844Z
LOCATION:Via Martiri delle Foibe 17\, San Lazzaro di Savena
URL:https://www.ausl.bologna.it/cit/cp/gama/incontri-eventi/2026/salva-gen
 te1112
END:VEVENT
BEGIN:VTIMEZONE
TZID:Europe/Rome
X-LIC-LOCATION:Europe/Rome
BEGIN:STANDARD
DTSTART;VALUE=DATE-TIME:20261025T020000
TZNAME:CET
TZOFFSETFROM:+0200
TZOFFSETTO:+0100
END:STANDARD
END:VTIMEZONE
END:VCALENDAR
