BEGIN:VCALENDAR
VERSION:2.0
PRODID:-//Plone.org//NONSGML plone.app.event//EN
X-WR-TIMEZONE:Europe/Rome
BEGIN:VEVENT
SUMMARY:Note fiorenti
DTSTART;TZID=Europe/Rome;VALUE=DATE-TIME:20260910T160000
DTEND;TZID=Europe/Rome;VALUE=DATE-TIME:20260910T173000
DTSTAMP;VALUE=DATE-TIME:20260423T192436Z
UID:9269cce85bbb468fa526b7d13e121f15@127.0.0.1:8095
CATEGORIES:Gruppi di Auto Mutuo Aiuto
CONTACT:Maria\, 320 047 1307
CREATED;VALUE=DATE-TIME:20230103T102150Z
DESCRIPTION:Gruppo di auto mutuo aiuto per chi convive con fibromialgia e 
 malattie invisibili
LAST-MODIFIED;VALUE=DATE-TIME:20260123T101445Z
LOCATION:Poliambulatorio San Camillo\, via Seminario 1 - San Lazzaro di Sa
 vena
URL:https://www.ausl.bologna.it/cit/cp/gama/incontri-eventi/2026/copy109no
 te-fiorenti-1
END:VEVENT
BEGIN:VTIMEZONE
TZID:Europe/Rome
X-LIC-LOCATION:Europe/Rome
BEGIN:DAYLIGHT
DTSTART;VALUE=DATE-TIME:20260329T030000
TZNAME:CEST
TZOFFSETFROM:+0100
TZOFFSETTO:+0200
END:DAYLIGHT
END:VTIMEZONE
END:VCALENDAR
