BEGIN:VCALENDAR
VERSION:2.0
PRODID:-//Plone.org//NONSGML plone.app.event//EN
X-WR-TIMEZONE:Europe/Rome
BEGIN:VEVENT
SUMMARY:Barcollo ma non mollo Zola Predosa
DTSTART;TZID=Europe/Rome;VALUE=DATE-TIME:20260223T150000
DTEND;TZID=Europe/Rome;VALUE=DATE-TIME:20260223T163000
DTSTAMP;VALUE=DATE-TIME:20260422T193914Z
UID:ea953f5ab7c0463a8e39a79473e68fd7@127.0.0.1:8095
CATEGORIES:Gruppi di Auto Mutuo Aiuto
CONTACT:Cecilia\, 339 6889918
CREATED;VALUE=DATE-TIME:20230103T102150Z
DESCRIPTION:Gruppo di auto mutuo aiuto tra caregiver familiari
LAST-MODIFIED;VALUE=DATE-TIME:20260108T092331Z
LOCATION:Sala Corsi del Comune di Zola Predosa\, piazza della Repubblca 1
URL:https://www.ausl.bologna.it/cit/cp/gama/incontri-eventi/2026/barcollo-
 ma-non-mollo-1011
END:VEVENT
BEGIN:VTIMEZONE
TZID:Europe/Rome
X-LIC-LOCATION:Europe/Rome
BEGIN:STANDARD
DTSTART;VALUE=DATE-TIME:20251026T020000
TZNAME:CET
TZOFFSETFROM:+0200
TZOFFSETTO:+0100
END:STANDARD
END:VTIMEZONE
END:VCALENDAR
