BEGIN:VCALENDAR
VERSION:2.0
PRODID:-//Plone.org//NONSGML plone.app.event//EN
X-WR-TIMEZONE:Europe/Rome
BEGIN:VEVENT
SUMMARY:“Per mano con un marziano”
DTSTART;TZID=Europe/Rome;VALUE=DATE-TIME:20260112T170000
DTEND;TZID=Europe/Rome;VALUE=DATE-TIME:20260112T183000
DTSTAMP;VALUE=DATE-TIME:20260422T194005Z
UID:994b09d8b5b24f4587f245a1565ec655@127.0.0.1:8095
CATEGORIES:Gruppi di Auto Mutuo Aiuto
CONTACT:Centro sociale “Falcone e Borsellino” - San Giorgio di Piano\,
  l.piazza@renogalliera.it\, https://www.ausl.bologna.it/cit/cp/gama/archiv
 io-notizie/archivio-notizie-2026/201cper-mano-con-un-marziano201d-a-san-gi
 orgio-di-piano-un-gruppo-di-auto-mutuo-aiuto-per-familiari-e-caregiver-di-
 persone-con-disabilita
CREATED;VALUE=DATE-TIME:20251219T132925Z
DESCRIPTION:Gruppo di auto mutuo aiuto per familiari e caregiver di person
 e con disabilità residenti nell'Unione Reno Galliera
LAST-MODIFIED;VALUE=DATE-TIME:20251219T133615Z
URL:https://www.ausl.bologna.it/cit/cp/gama/incontri-eventi/2026/201cper-m
 ano-con-un-marziano201d
END:VEVENT
BEGIN:VTIMEZONE
TZID:Europe/Rome
X-LIC-LOCATION:Europe/Rome
BEGIN:STANDARD
DTSTART;VALUE=DATE-TIME:20251026T020000
TZNAME:CET
TZOFFSETFROM:+0200
TZOFFSETTO:+0100
END:STANDARD
END:VTIMEZONE
END:VCALENDAR
