BEGIN:VCALENDAR
VERSION:2.0
PRODID:-//Plone.org//NONSGML plone.app.event//EN
X-WR-TIMEZONE:Europe/Rome
BEGIN:VEVENT
SUMMARY:#AscoltAMi - Genitori in connessione: gruppo di auto mutuo aiuto p
 er genitori di bambini e adolescenti con autismo
DTSTART;TZID=Europe/Rome;VALUE=DATE-TIME:20260519T173000
DTEND;TZID=Europe/Rome;VALUE=DATE-TIME:20260519T190000
DTSTAMP;VALUE=DATE-TIME:20260422T195334Z
UID:b365618247294c388a0e0efc5eb08d16@127.0.0.1:8095
CATEGORIES:Gruppi di Auto Mutuo Aiuto
CONTACT:Rachele\, 349 5227986\, https://www.ausl.bologna.it/cit/cp/gama/ar
 chivio-notizie/archivio-notizie-2026/ascoltami-genitori-in-connessione-gru
 ppo-di-auto-mutuo-aiuto-per-genitori-di-bambini-e-adolescenti-con-autismo
CREATED;VALUE=DATE-TIME:20260311T071439Z
DESCRIPTION:Incontro dedicato ai genitori per condividere esperienze\, dif
 ficoltà e strategie educative in uno spazio di ascolto e sostegno recipro
 co.
LAST-MODIFIED;VALUE=DATE-TIME:20260311T072135Z
LOCATION:Spazio Atelier La Mandria - Via Risorgimento 326\, Zola Predosa
URL:https://www.ausl.bologna.it/cit/cp/gama/incontri-eventi/2026/195ascolt
 ami-genitori-in-connessione-gruppo-di-auto-mutuo-aiuto-per-genitori-di-bam
 bini-e-adolescenti-con-autismo
END:VEVENT
BEGIN:VTIMEZONE
TZID:Europe/Rome
X-LIC-LOCATION:Europe/Rome
BEGIN:DAYLIGHT
DTSTART;VALUE=DATE-TIME:20260329T030000
TZNAME:CEST
TZOFFSETFROM:+0100
TZOFFSETTO:+0200
END:DAYLIGHT
END:VTIMEZONE
END:VCALENDAR
