BEGIN:VCALENDAR
VERSION:2.0
PRODID:-//Plone.org//NONSGML plone.app.event//EN
X-WR-TIMEZONE:Europe/Rome
BEGIN:VEVENT
SUMMARY:Giornata delle Malattie Rare - Conoscere\, Curare\, Aiutare
DTSTART;VALUE=DATE-TIME:20180227T193000Z
DTEND;VALUE=DATE-TIME:20180227T213000Z
DTSTAMP;VALUE=DATE-TIME:20260420T081204Z
UID:fb82ad1ae4b809d02af9957d676dbedd@127.0.0.1:8095
CATEGORIES:Giornata mondiale
CREATED;VALUE=DATE-TIME:20180209T145134Z
DESCRIPTION:Il 27 alle 20\,30 presso il Municipio di Zola Predosa
LAST-MODIFIED;VALUE=DATE-TIME:20180213T071324Z
LOCATION:Sala Arengo - Municipio di Zola Predosa - Piazza della Repubblica
 \, 1
URL:https://www.ausl.bologna.it/asl-bologna/dis/casalecchio/news/auslevent
 .2018-02-09.6762877151
END:VEVENT
END:VCALENDAR
